BEGIN:VCALENDAR
VERSION:2.0
PRODID:-//CGKK - ECPv6.15.20//NONSGML v1.0//EN
CALSCALE:GREGORIAN
METHOD:PUBLISH
X-WR-CALNAME:CGKK
X-ORIGINAL-URL:https://christengemeinschaft-konstanz-kreuzlingen.org
X-WR-CALDESC:Veranstaltungen für CGKK
REFRESH-INTERVAL;VALUE=DURATION:PT1H
X-Robots-Tag:noindex
X-PUBLISHED-TTL:PT1H
BEGIN:VTIMEZONE
TZID:Europe/Berlin
BEGIN:DAYLIGHT
TZOFFSETFROM:+0100
TZOFFSETTO:+0200
TZNAME:CEST
DTSTART:20250330T010000
END:DAYLIGHT
BEGIN:STANDARD
TZOFFSETFROM:+0200
TZOFFSETTO:+0100
TZNAME:CET
DTSTART:20251026T010000
END:STANDARD
BEGIN:DAYLIGHT
TZOFFSETFROM:+0100
TZOFFSETTO:+0200
TZNAME:CEST
DTSTART:20260329T010000
END:DAYLIGHT
BEGIN:STANDARD
TZOFFSETFROM:+0200
TZOFFSETTO:+0100
TZNAME:CET
DTSTART:20261025T010000
END:STANDARD
BEGIN:DAYLIGHT
TZOFFSETFROM:+0100
TZOFFSETTO:+0200
TZNAME:CEST
DTSTART:20270328T010000
END:DAYLIGHT
BEGIN:STANDARD
TZOFFSETFROM:+0200
TZOFFSETTO:+0100
TZNAME:CET
DTSTART:20271031T010000
END:STANDARD
END:VTIMEZONE
BEGIN:VEVENT
DTSTART;TZID=Europe/Berlin:20260426T100000
DTEND;TZID=Europe/Berlin:20260426T110000
DTSTAMP:20260424T123804
CREATED:20260314T220019Z
LAST-MODIFIED:20260314T220020Z
UID:8416-1777197600-1777201200@christengemeinschaft-konstanz-kreuzlingen.org
SUMMARY:Die Menschenweihehandlung
DESCRIPTION:… ist der Mittelpunkt der Christengemeinschaft\, ein erneuerter Gottesdienst\, der die Verbindung von Mensch und Christus auf besinnliche und tiefgreifende Weise erfahrbar macht. \nOrt: Die Christengemeinschaft Konstanz/Kreuzlingen
URL:https://christengemeinschaft-konstanz-kreuzlingen.org/events-calendar-post/die-menschenweihehandlung-129/
ATTACH;FMTTYPE=image/jpeg:https://christengemeinschaft-konstanz-kreuzlingen.org/wp-content/uploads/2026/03/dummy_Handlungen_20260310.jpg
END:VEVENT
BEGIN:VEVENT
DTSTART;TZID=Europe/Berlin:20260426T111500
DTEND;TZID=Europe/Berlin:20260426T114500
DTSTAMP:20260424T123804
CREATED:20260314T221522Z
LAST-MODIFIED:20260314T221523Z
UID:7447-1777202100-1777203900@christengemeinschaft-konstanz-kreuzlingen.org
SUMMARY:Die Sonntagshandlung für Kinder
DESCRIPTION:… richtet sich an Kinder zwischen 7 und 14 Jahren. \nOrt: Die Christengemeinschaft Konstanz/Kreuzlingen
URL:https://christengemeinschaft-konstanz-kreuzlingen.org/events-calendar-post/die-sonntagshandlung-fuer-die-kinder-79/
ATTACH;FMTTYPE=image/jpeg:https://christengemeinschaft-konstanz-kreuzlingen.org/wp-content/uploads/2026/03/dummy_Handlungen_20260310.jpg
END:VEVENT
BEGIN:VEVENT
DTSTART;TZID=Europe/Berlin:20260429T081500
DTEND;TZID=Europe/Berlin:20260429T091500
DTSTAMP:20260424T123804
CREATED:20260314T200016Z
LAST-MODIFIED:20260314T200016Z
UID:10488-1777450500-1777454100@christengemeinschaft-konstanz-kreuzlingen.org
SUMMARY:Die Menschenweihehandlung in Wahlwies
DESCRIPTION:In unserem Gemeindeteil Wahlwies findet regelmäßig die Menschenweihehandlung statt. Außer in den Schulferien. \nOrt: Die Christengemeinschaft Wahlwies
URL:https://christengemeinschaft-konstanz-kreuzlingen.org/events-calendar-post/die-menschenweihehandlung-in-wahlwies-80/
CATEGORIES:Wahlwies
ATTACH;FMTTYPE=image/jpeg:https://christengemeinschaft-konstanz-kreuzlingen.org/wp-content/uploads/2026/03/dummy_Handlungen_20260310.jpg
END:VEVENT
BEGIN:VEVENT
DTSTART;TZID=Europe/Berlin:20260430T090000
DTEND;TZID=Europe/Berlin:20260430T100000
DTSTAMP:20260424T123804
CREATED:20260314T210019Z
LAST-MODIFIED:20260314T210020Z
UID:12498-1777539600-1777543200@christengemeinschaft-konstanz-kreuzlingen.org
SUMMARY:Die Menschenweihehandlung
DESCRIPTION:… ist der Mittelpunkt der Christengemeinschaft\, ein erneuerter Gottesdienst\, der die Verbindung von Mensch und Christus auf besinnliche und tiefgreifende Weise erfahrbar macht. \nOrt: Die Christengemeinschaft Konstanz/Kreuzlingen
URL:https://christengemeinschaft-konstanz-kreuzlingen.org/events-calendar-post/die-menschenweihehandlung-969/
ATTACH;FMTTYPE=image/jpeg:https://christengemeinschaft-konstanz-kreuzlingen.org/wp-content/uploads/2026/03/dummy_Handlungen_20260310.jpg
END:VEVENT
BEGIN:VEVENT
DTSTART;TZID=Europe/Berlin:20260430T190000
DTEND;TZID=Europe/Berlin:20260430T203000
DTSTAMP:20260424T123804
CREATED:20260315T120016Z
LAST-MODIFIED:20260315T120016Z
UID:74962-1777575600-1777581000@christengemeinschaft-konstanz-kreuzlingen.org
SUMMARY:Die Evangelien und die Apostelgeschichte - Evangelienkreis mit Pfarrerin Carola Gerhard
DESCRIPTION:Wir laden herzlich zu einem Evangelienkreis ein\, der unter der Leitung von Gemeindepfarrerin Carola Gerhard stattfinden wird. Dieses Treffen richtet sich an alle\, die sich für die Evangelien und die Apostelgeschichte interessieren und gemeinsam darüber nachdenken möchten. Wir freuen uns über jede und jeden\, der dazukommen möchte. Wir freuen uns auf eine bereichernde Zeit des Austausches und des gemeinsamen Studiums der Schrift!
URL:https://christengemeinschaft-konstanz-kreuzlingen.org/events-calendar-post/die-evangelien-und-die-apostelgeschichte-evangelienkreis-mit-pfarrerin-carola-gerhard-4/
CATEGORIES:Gesprächskreise
ATTACH;FMTTYPE=image/jpeg:https://christengemeinschaft-konstanz-kreuzlingen.org/wp-content/uploads/2026/03/dummybild_Veranstaltung_74962.jpg
END:VEVENT
BEGIN:VEVENT
DTSTART;TZID=Europe/Berlin:20260503T100000
DTEND;TZID=Europe/Berlin:20260503T110000
DTSTAMP:20260424T123804
CREATED:20260314T220021Z
LAST-MODIFIED:20260314T220022Z
UID:8417-1777802400-1777806000@christengemeinschaft-konstanz-kreuzlingen.org
SUMMARY:Die Menschenweihehandlung
DESCRIPTION:… ist der Mittelpunkt der Christengemeinschaft\, ein erneuerter Gottesdienst\, der die Verbindung von Mensch und Christus auf besinnliche und tiefgreifende Weise erfahrbar macht. \nOrt: Die Christengemeinschaft Konstanz/Kreuzlingen
URL:https://christengemeinschaft-konstanz-kreuzlingen.org/events-calendar-post/die-menschenweihehandlung-130/
ATTACH;FMTTYPE=image/jpeg:https://christengemeinschaft-konstanz-kreuzlingen.org/wp-content/uploads/2026/03/dummy_Handlungen_20260310.jpg
END:VEVENT
BEGIN:VEVENT
DTSTART;TZID=Europe/Berlin:20260503T111500
DTEND;TZID=Europe/Berlin:20260503T114500
DTSTAMP:20260424T123804
CREATED:20260314T221524Z
LAST-MODIFIED:20260314T221525Z
UID:7448-1777806900-1777808700@christengemeinschaft-konstanz-kreuzlingen.org
SUMMARY:Die Sonntagshandlung für Kinder
DESCRIPTION:… richtet sich an Kinder zwischen 7 und 14 Jahren. \nOrt: Die Christengemeinschaft Konstanz/Kreuzlingen
URL:https://christengemeinschaft-konstanz-kreuzlingen.org/events-calendar-post/die-sonntagshandlung-fuer-die-kinder-80/
ATTACH;FMTTYPE=image/jpeg:https://christengemeinschaft-konstanz-kreuzlingen.org/wp-content/uploads/2026/03/dummy_Handlungen_20260310.jpg
END:VEVENT
BEGIN:VEVENT
DTSTART;TZID=Europe/Berlin:20260505T193000
DTEND;TZID=Europe/Berlin:20260505T210000
DTSTAMP:20260424T123804
CREATED:20260307T082306Z
LAST-MODIFIED:20260310T194020Z
UID:9755-1778009400-1778014800@christengemeinschaft-konstanz-kreuzlingen.org
SUMMARY:Gemeindeforum Wahlwies
DESCRIPTION:
URL:https://christengemeinschaft-konstanz-kreuzlingen.org/events-calendar-post/gemeindeforum-wahlwies-11/
CATEGORIES:Arbeitskreise,Gemeindeforum,Wahlwies
ATTACH;FMTTYPE=image/jpeg:https://christengemeinschaft-konstanz-kreuzlingen.org/wp-content/uploads/2026/03/dummy_Wahlwies_20260310.jpg
END:VEVENT
BEGIN:VEVENT
DTSTART;TZID=Europe/Berlin:20260506T081500
DTEND;TZID=Europe/Berlin:20260506T091500
DTSTAMP:20260424T123804
CREATED:20260314T200017Z
LAST-MODIFIED:20260314T200018Z
UID:10490-1778055300-1778058900@christengemeinschaft-konstanz-kreuzlingen.org
SUMMARY:Die Menschenweihehandlung in Wahlwies
DESCRIPTION:In unserem Gemeindeteil Wahlwies findet regelmäßig die Menschenweihehandlung statt. Außer in den Schulferien. \nOrt: Die Christengemeinschaft Wahlwies
URL:https://christengemeinschaft-konstanz-kreuzlingen.org/events-calendar-post/die-menschenweihehandlung-in-wahlwies-81/
CATEGORIES:Wahlwies
ATTACH;FMTTYPE=image/jpeg:https://christengemeinschaft-konstanz-kreuzlingen.org/wp-content/uploads/2026/03/dummy_Handlungen_20260310.jpg
END:VEVENT
BEGIN:VEVENT
DTSTART;TZID=Europe/Berlin:20260507T090000
DTEND;TZID=Europe/Berlin:20260507T100000
DTSTAMP:20260424T123804
CREATED:20260314T210021Z
LAST-MODIFIED:20260314T210021Z
UID:12500-1778144400-1778148000@christengemeinschaft-konstanz-kreuzlingen.org
SUMMARY:Die Menschenweihehandlung
DESCRIPTION:… ist der Mittelpunkt der Christengemeinschaft\, ein erneuerter Gottesdienst\, der die Verbindung von Mensch und Christus auf besinnliche und tiefgreifende Weise erfahrbar macht. \nOrt: Die Christengemeinschaft Konstanz/Kreuzlingen
URL:https://christengemeinschaft-konstanz-kreuzlingen.org/events-calendar-post/die-menschenweihehandlung-970/
ATTACH;FMTTYPE=image/jpeg:https://christengemeinschaft-konstanz-kreuzlingen.org/wp-content/uploads/2026/03/dummy_Handlungen_20260310.jpg
END:VEVENT
BEGIN:VEVENT
DTSTART;TZID=Europe/Berlin:20260508T190000
DTEND;TZID=Europe/Berlin:20260508T213000
DTSTAMP:20260424T123804
CREATED:20260327T150011Z
LAST-MODIFIED:20260327T150011Z
UID:6627-1778266800-1778275800@christengemeinschaft-konstanz-kreuzlingen.org
SUMMARY:Gemeindeabend: Portrait Ita Wegman mit dem Sophien-Ensemble (Sprache und Eurythmie)
DESCRIPTION:Heute laden wir zu einer besonderen Veranstaltung ein. Zu Gast ist das Sophien-Ensemble um Andrea Klapproth (Sprache) und Sibylle Burg (Eurythmie) mit einem künstlerischen Portrait über die Ärztin und Anthroposophin Ita Wegman\, deren Geburtstag sich 2026 zum 150. Mal jährt. Ita Wegman wurde 1876 in Indonesien geboren und begegnete 1902 in Berlin erstmals Rudolf Steiner. Nach ihrem Medizinstudium in Zürich begann 1921 die intensive Zusammenarbeit mit ihm. In Arlesheim gründete sie eine anthroposophische Klinik und entwickelte gemeinsam mit Rudolf Steiner die Grundlagen der anthroposophischen Medizin. Später entstand auch das Kurhaus Andrea Cristoforo in Ascona. Ihr Wirken reichte jedoch weit darüber hinaus: Sie unterstützte etwa Karl König bei der Entstehung der Camphill-Bewegung und engagierte sich zeitlebens für eine Medizin\, die den ganzen Menschen in den Blick nimmt. Das Sophien-Ensemble widmet sich in seinen Programmen der künstlerischen Annäherung an bedeutende Biographien. Durch das Zusammenspiel von gesprochenem Wort und eurythmischer Bewegung werden Lebenswege nicht nur erzählt\, sondern in ihrem inneren Gehalt sichtbar gemacht. Ziel ist es\, Menschen nicht allein nach Daten zu betrachten\, sondern sie durch ihre Taten\, Worte und geistigen Impulse lebendig werden zu lassen. An diesem Abend werden Texte und Übungen Rudolf Steiners\, die Ita Wegman auf ihrem inneren Entwicklungsweg begleiteten\, in Sprache und Eurythmie gestaltet und eröffnen einen besonderen Zugang zu dieser beeindruckenden Persönlichkeit. Wir freuen uns auf Ihr Kommen.
URL:https://christengemeinschaft-konstanz-kreuzlingen.org/events-calendar-post/ics-a5626f49c48cc929628968-3/
CATEGORIES:Gemeindeabende
END:VEVENT
BEGIN:VEVENT
DTSTART;TZID=Europe/Berlin:20260509T103000
DTEND;TZID=Europe/Berlin:20260509T173000
DTSTAMP:20260424T123804
CREATED:20260319T101511Z
LAST-MODIFIED:20260319T101511Z
UID:6634-1778322600-1778347800@christengemeinschaft-konstanz-kreuzlingen.org
SUMMARY:Vorbereitungstreffen Kinderzeltdorf
DESCRIPTION:
URL:https://christengemeinschaft-konstanz-kreuzlingen.org/events-calendar-post/ics-d9d99113e45af9510189c0-3/
CATEGORIES:Kinderzeltdorf
ATTACH;FMTTYPE=image/jpeg:https://christengemeinschaft-konstanz-kreuzlingen.org/wp-content/uploads/2026/03/dummy_Kinderzeltdorf_20260310.jpg
END:VEVENT
BEGIN:VEVENT
DTSTART;TZID=Europe/Berlin:20260510T100000
DTEND;TZID=Europe/Berlin:20260510T110000
DTSTAMP:20260424T123804
CREATED:20260314T220023Z
LAST-MODIFIED:20260314T220024Z
UID:8418-1778407200-1778410800@christengemeinschaft-konstanz-kreuzlingen.org
SUMMARY:Die Menschenweihehandlung
DESCRIPTION:… ist der Mittelpunkt der Christengemeinschaft\, ein erneuerter Gottesdienst\, der die Verbindung von Mensch und Christus auf besinnliche und tiefgreifende Weise erfahrbar macht. \nOrt: Die Christengemeinschaft Konstanz/Kreuzlingen
URL:https://christengemeinschaft-konstanz-kreuzlingen.org/events-calendar-post/die-menschenweihehandlung-131/
ATTACH;FMTTYPE=image/jpeg:https://christengemeinschaft-konstanz-kreuzlingen.org/wp-content/uploads/2026/03/dummy_Handlungen_20260310.jpg
END:VEVENT
BEGIN:VEVENT
DTSTART;TZID=Europe/Berlin:20260510T111500
DTEND;TZID=Europe/Berlin:20260510T114500
DTSTAMP:20260424T123804
CREATED:20260314T221526Z
LAST-MODIFIED:20260314T221526Z
UID:7449-1778411700-1778413500@christengemeinschaft-konstanz-kreuzlingen.org
SUMMARY:Die Sonntagshandlung für Kinder
DESCRIPTION:… richtet sich an Kinder zwischen 7 und 14 Jahren. \nOrt: Die Christengemeinschaft Konstanz/Kreuzlingen
URL:https://christengemeinschaft-konstanz-kreuzlingen.org/events-calendar-post/die-sonntagshandlung-fuer-die-kinder-81/
ATTACH;FMTTYPE=image/jpeg:https://christengemeinschaft-konstanz-kreuzlingen.org/wp-content/uploads/2026/03/dummy_Handlungen_20260310.jpg
END:VEVENT
BEGIN:VEVENT
DTSTART;TZID=Europe/Berlin:20260512T190000
DTEND;TZID=Europe/Berlin:20260512T203000
DTSTAMP:20260424T123804
CREATED:20260313T163306Z
LAST-MODIFIED:20260313T163307Z
UID:74967-1778612400-1778617800@christengemeinschaft-konstanz-kreuzlingen.org
SUMMARY:Die Evangelien und die Apostelgeschichte - Evangelienkreis mit Pfarrerin Carola Gerhard
DESCRIPTION:
URL:https://christengemeinschaft-konstanz-kreuzlingen.org/events-calendar-post/die-evangelien-und-die-apostelgeschichte-evangelienkreis-mit-pfarrerin-carola-gerhard-6/
ATTACH;FMTTYPE=image/jpeg:https://christengemeinschaft-konstanz-kreuzlingen.org/wp-content/uploads/2026/03/dummybild_Veranstaltung_74962.jpg
END:VEVENT
BEGIN:VEVENT
DTSTART;TZID=Europe/Berlin:20260513T081500
DTEND;TZID=Europe/Berlin:20260513T091500
DTSTAMP:20260424T123804
CREATED:20260314T200019Z
LAST-MODIFIED:20260314T200019Z
UID:10491-1778660100-1778663700@christengemeinschaft-konstanz-kreuzlingen.org
SUMMARY:Die Menschenweihehandlung in Wahlwies
DESCRIPTION:In unserem Gemeindeteil Wahlwies findet regelmäßig die Menschenweihehandlung statt. Außer in den Schulferien. \nOrt: Die Christengemeinschaft Wahlwies
URL:https://christengemeinschaft-konstanz-kreuzlingen.org/events-calendar-post/die-menschenweihehandlung-in-wahlwies-82/
CATEGORIES:Wahlwies
ATTACH;FMTTYPE=image/jpeg:https://christengemeinschaft-konstanz-kreuzlingen.org/wp-content/uploads/2026/03/dummy_Handlungen_20260310.jpg
END:VEVENT
BEGIN:VEVENT
DTSTART;TZID=Europe/Berlin:20260514T090000
DTEND;TZID=Europe/Berlin:20260514T100000
DTSTAMP:20260424T123804
CREATED:20260314T210023Z
LAST-MODIFIED:20260314T210023Z
UID:12504-1778749200-1778752800@christengemeinschaft-konstanz-kreuzlingen.org
SUMMARY:Die Menschenweihehandlung
DESCRIPTION:… ist der Mittelpunkt der Christengemeinschaft\, ein erneuerter Gottesdienst\, der die Verbindung von Mensch und Christus auf besinnliche und tiefgreifende Weise erfahrbar macht. \nOrt: Die Christengemeinschaft Konstanz/Kreuzlingen
URL:https://christengemeinschaft-konstanz-kreuzlingen.org/events-calendar-post/die-menschenweihehandlung-971/
ATTACH;FMTTYPE=image/jpeg:https://christengemeinschaft-konstanz-kreuzlingen.org/wp-content/uploads/2026/03/dummy_Handlungen_20260310.jpg
END:VEVENT
BEGIN:VEVENT
DTSTART;TZID=Europe/Berlin:20260515T200000
DTEND;TZID=Europe/Berlin:20260515T210000
DTSTAMP:20260424T123804
CREATED:20260319T100012Z
LAST-MODIFIED:20260319T100013Z
UID:75764-1778875200-1778878800@christengemeinschaft-konstanz-kreuzlingen.org
SUMMARY:Die Menschenweihehandlung in Handlung und Tat
DESCRIPTION:
URL:https://christengemeinschaft-konstanz-kreuzlingen.org/events-calendar-post/die-menschenweihehandlung-in-handlung-und-tat/
ATTACH;FMTTYPE=image/jpeg:https://christengemeinschaft-konstanz-kreuzlingen.org/wp-content/uploads/2026/03/dummybild_Handlungen_75764.jpg
END:VEVENT
BEGIN:VEVENT
DTSTART;TZID=Europe/Berlin:20260517T100000
DTEND;TZID=Europe/Berlin:20260517T110000
DTSTAMP:20260424T123804
CREATED:20260314T220025Z
LAST-MODIFIED:20260314T220026Z
UID:8419-1779012000-1779015600@christengemeinschaft-konstanz-kreuzlingen.org
SUMMARY:Die Menschenweihehandlung
DESCRIPTION:… ist der Mittelpunkt der Christengemeinschaft\, ein erneuerter Gottesdienst\, der die Verbindung von Mensch und Christus auf besinnliche und tiefgreifende Weise erfahrbar macht. \nOrt: Die Christengemeinschaft Konstanz/Kreuzlingen
URL:https://christengemeinschaft-konstanz-kreuzlingen.org/events-calendar-post/die-menschenweihehandlung-132/
ATTACH;FMTTYPE=image/jpeg:https://christengemeinschaft-konstanz-kreuzlingen.org/wp-content/uploads/2026/03/dummy_Handlungen_20260310.jpg
END:VEVENT
BEGIN:VEVENT
DTSTART;TZID=Europe/Berlin:20260517T111500
DTEND;TZID=Europe/Berlin:20260517T114500
DTSTAMP:20260424T123804
CREATED:20260314T221528Z
LAST-MODIFIED:20260314T221528Z
UID:7450-1779016500-1779018300@christengemeinschaft-konstanz-kreuzlingen.org
SUMMARY:Die Sonntagshandlung für Kinder
DESCRIPTION:… richtet sich an Kinder zwischen 7 und 14 Jahren. \nOrt: Die Christengemeinschaft Konstanz/Kreuzlingen
URL:https://christengemeinschaft-konstanz-kreuzlingen.org/events-calendar-post/die-sonntagshandlung-fuer-die-kinder-82/
ATTACH;FMTTYPE=image/jpeg:https://christengemeinschaft-konstanz-kreuzlingen.org/wp-content/uploads/2026/03/dummy_Handlungen_20260310.jpg
END:VEVENT
BEGIN:VEVENT
DTSTART;TZID=Europe/Berlin:20260517T111500
DTEND;TZID=Europe/Berlin:20260517T114500
DTSTAMP:20260424T123804
CREATED:20260401T171625Z
LAST-MODIFIED:20260401T171625Z
UID:75805-1779016500-1779018300@christengemeinschaft-konstanz-kreuzlingen.org
SUMMARY:Die Sonntagshandlung für die Kinder in Wahlwies
DESCRIPTION:
URL:https://christengemeinschaft-konstanz-kreuzlingen.org/events-calendar-post/die-sonntagshandlung-fuer-die-kinder-in-wahlwies-2/
CATEGORIES:Wahlwies
END:VEVENT
BEGIN:VEVENT
DTSTART;TZID=Europe/Berlin:20260519T193000
DTEND;TZID=Europe/Berlin:20260519T210000
DTSTAMP:20260424T123804
CREATED:20260307T081947Z
LAST-MODIFIED:20260307T081947Z
UID:9062-1779219000-1779224400@christengemeinschaft-konstanz-kreuzlingen.org
SUMMARY:Gemeindekonferenz
DESCRIPTION:
URL:https://christengemeinschaft-konstanz-kreuzlingen.org/events-calendar-post/gemeindekonferenz-12/
CATEGORIES:Arbeitskreise,Gemeindekonferenz
END:VEVENT
BEGIN:VEVENT
DTSTART;TZID=Europe/Berlin:20260520T081500
DTEND;TZID=Europe/Berlin:20260520T091500
DTSTAMP:20260424T123804
CREATED:20260314T200021Z
LAST-MODIFIED:20260314T200021Z
UID:10493-1779264900-1779268500@christengemeinschaft-konstanz-kreuzlingen.org
SUMMARY:Die Menschenweihehandlung in Wahlwies
DESCRIPTION:In unserem Gemeindeteil Wahlwies findet regelmäßig die Menschenweihehandlung statt. Außer in den Schulferien. \nOrt: Die Christengemeinschaft Wahlwies
URL:https://christengemeinschaft-konstanz-kreuzlingen.org/events-calendar-post/die-menschenweihehandlung-in-wahlwies-83/
CATEGORIES:Wahlwies
ATTACH;FMTTYPE=image/jpeg:https://christengemeinschaft-konstanz-kreuzlingen.org/wp-content/uploads/2026/03/dummy_Handlungen_20260310.jpg
END:VEVENT
BEGIN:VEVENT
DTSTART;TZID=Europe/Berlin:20260521T090000
DTEND;TZID=Europe/Berlin:20260521T100000
DTSTAMP:20260424T123804
CREATED:20260314T210024Z
LAST-MODIFIED:20260314T210025Z
UID:12505-1779354000-1779357600@christengemeinschaft-konstanz-kreuzlingen.org
SUMMARY:Die Menschenweihehandlung
DESCRIPTION:… ist der Mittelpunkt der Christengemeinschaft\, ein erneuerter Gottesdienst\, der die Verbindung von Mensch und Christus auf besinnliche und tiefgreifende Weise erfahrbar macht. \nOrt: Die Christengemeinschaft Konstanz/Kreuzlingen
URL:https://christengemeinschaft-konstanz-kreuzlingen.org/events-calendar-post/die-menschenweihehandlung-972/
ATTACH;FMTTYPE=image/jpeg:https://christengemeinschaft-konstanz-kreuzlingen.org/wp-content/uploads/2026/03/dummy_Handlungen_20260310.jpg
END:VEVENT
BEGIN:VEVENT
DTSTART;TZID=Europe/Berlin:20260524T100000
DTEND;TZID=Europe/Berlin:20260524T110000
DTSTAMP:20260424T123804
CREATED:20260323T113012Z
LAST-MODIFIED:20260323T113013Z
UID:8420-1779616800-1779620400@christengemeinschaft-konstanz-kreuzlingen.org
SUMMARY:Die Menschenweihehandlung am Pfingstsonntag
DESCRIPTION:… ist der Mittelpunkt der Christengemeinschaft\, ein erneuerter Gottesdienst\, der die Verbindung von Mensch und Christus auf besinnliche und tiefgreifende Weise erfahrbar macht. \nOrt: Die Christengemeinschaft Konstanz/Kreuzlingen
URL:https://christengemeinschaft-konstanz-kreuzlingen.org/events-calendar-post/die-menschenweihehandlung-133/
ATTACH;FMTTYPE=image/jpeg:https://christengemeinschaft-konstanz-kreuzlingen.org/wp-content/uploads/2026/03/dummy_Handlungen_20260310.jpg
END:VEVENT
BEGIN:VEVENT
DTSTART;TZID=Europe/Berlin:20260524T111500
DTEND;TZID=Europe/Berlin:20260524T114500
DTSTAMP:20260424T123804
CREATED:20260314T221529Z
LAST-MODIFIED:20260314T221530Z
UID:7451-1779621300-1779623100@christengemeinschaft-konstanz-kreuzlingen.org
SUMMARY:Die Sonntagshandlung für Kinder
DESCRIPTION:… richtet sich an Kinder zwischen 7 und 14 Jahren. \nOrt: Die Christengemeinschaft Konstanz/Kreuzlingen
URL:https://christengemeinschaft-konstanz-kreuzlingen.org/events-calendar-post/die-sonntagshandlung-fuer-die-kinder-83/
ATTACH;FMTTYPE=image/jpeg:https://christengemeinschaft-konstanz-kreuzlingen.org/wp-content/uploads/2026/03/dummy_Handlungen_20260310.jpg
END:VEVENT
BEGIN:VEVENT
DTSTART;TZID=Europe/Berlin:20260525T100000
DTEND;TZID=Europe/Berlin:20260525T110000
DTSTAMP:20260424T123804
CREATED:20260323T113013Z
LAST-MODIFIED:20260323T113015Z
UID:75788-1779703200-1779706800@christengemeinschaft-konstanz-kreuzlingen.org
SUMMARY:Die Menschenweihehandlung am Pfingstmontag
DESCRIPTION:
URL:https://christengemeinschaft-konstanz-kreuzlingen.org/events-calendar-post/die-menschenweihehandlung-am-pfingstmontag/
ATTACH;FMTTYPE=image/jpeg:https://christengemeinschaft-konstanz-kreuzlingen.org/wp-content/uploads/2026/03/dummybild_Handlungen_75788.jpg
END:VEVENT
BEGIN:VEVENT
DTSTART;TZID=Europe/Berlin:20260528T090000
DTEND;TZID=Europe/Berlin:20260528T100000
DTSTAMP:20260424T123804
CREATED:20260314T210026Z
LAST-MODIFIED:20260314T210027Z
UID:12509-1779958800-1779962400@christengemeinschaft-konstanz-kreuzlingen.org
SUMMARY:Die Menschenweihehandlung
DESCRIPTION:… ist der Mittelpunkt der Christengemeinschaft\, ein erneuerter Gottesdienst\, der die Verbindung von Mensch und Christus auf besinnliche und tiefgreifende Weise erfahrbar macht. \nOrt: Die Christengemeinschaft Konstanz/Kreuzlingen
URL:https://christengemeinschaft-konstanz-kreuzlingen.org/events-calendar-post/die-menschenweihehandlung-973/
ATTACH;FMTTYPE=image/jpeg:https://christengemeinschaft-konstanz-kreuzlingen.org/wp-content/uploads/2026/03/dummy_Handlungen_20260310.jpg
END:VEVENT
BEGIN:VEVENT
DTSTART;TZID=Europe/Berlin:20260531T100000
DTEND;TZID=Europe/Berlin:20260531T110000
DTSTAMP:20260424T123804
CREATED:20260314T220029Z
LAST-MODIFIED:20260314T220029Z
UID:8421-1780221600-1780225200@christengemeinschaft-konstanz-kreuzlingen.org
SUMMARY:Die Menschenweihehandlung
DESCRIPTION:… ist der Mittelpunkt der Christengemeinschaft\, ein erneuerter Gottesdienst\, der die Verbindung von Mensch und Christus auf besinnliche und tiefgreifende Weise erfahrbar macht. \nOrt: Die Christengemeinschaft Konstanz/Kreuzlingen
URL:https://christengemeinschaft-konstanz-kreuzlingen.org/events-calendar-post/die-menschenweihehandlung-134/
ATTACH;FMTTYPE=image/jpeg:https://christengemeinschaft-konstanz-kreuzlingen.org/wp-content/uploads/2026/03/dummy_Handlungen_20260310.jpg
END:VEVENT
BEGIN:VEVENT
DTSTART;TZID=Europe/Berlin:20260531T111500
DTEND;TZID=Europe/Berlin:20260531T114500
DTSTAMP:20260424T123804
CREATED:20260314T221531Z
LAST-MODIFIED:20260314T221531Z
UID:7452-1780226100-1780227900@christengemeinschaft-konstanz-kreuzlingen.org
SUMMARY:Die Sonntagshandlung für Kinder
DESCRIPTION:… richtet sich an Kinder zwischen 7 und 14 Jahren. \nOrt: Die Christengemeinschaft Konstanz/Kreuzlingen
URL:https://christengemeinschaft-konstanz-kreuzlingen.org/events-calendar-post/die-sonntagshandlung-fuer-die-kinder-84/
ATTACH;FMTTYPE=image/jpeg:https://christengemeinschaft-konstanz-kreuzlingen.org/wp-content/uploads/2026/03/dummy_Handlungen_20260310.jpg
END:VEVENT
END:VCALENDAR